BEGIN:VCALENDAR
VERSION:2.0
PRODID:-//Performance Art School - ECPv6.15.11//NONSGML v1.0//EN
CALSCALE:GREGORIAN
METHOD:PUBLISH
X-ORIGINAL-URL:https://performanceartschool.es
X-WR-CALDESC:Eventos para Performance Art School
REFRESH-INTERVAL;VALUE=DURATION:PT1H
X-Robots-Tag:noindex
X-PUBLISHED-TTL:PT1H
BEGIN:VTIMEZONE
TZID:Europe/Madrid
BEGIN:DAYLIGHT
TZOFFSETFROM:+0100
TZOFFSETTO:+0200
TZNAME:CEST
DTSTART:20220327T010000
END:DAYLIGHT
BEGIN:STANDARD
TZOFFSETFROM:+0200
TZOFFSETTO:+0100
TZNAME:CET
DTSTART:20221030T010000
END:STANDARD
BEGIN:DAYLIGHT
TZOFFSETFROM:+0100
TZOFFSETTO:+0200
TZNAME:CEST
DTSTART:20230326T010000
END:DAYLIGHT
BEGIN:STANDARD
TZOFFSETFROM:+0200
TZOFFSETTO:+0100
TZNAME:CET
DTSTART:20231029T010000
END:STANDARD
BEGIN:DAYLIGHT
TZOFFSETFROM:+0100
TZOFFSETTO:+0200
TZNAME:CEST
DTSTART:20240331T010000
END:DAYLIGHT
BEGIN:STANDARD
TZOFFSETFROM:+0200
TZOFFSETTO:+0100
TZNAME:CET
DTSTART:20241027T010000
END:STANDARD
END:VTIMEZONE
BEGIN:VEVENT
DTSTART;VALUE=DATE:20231017
DTEND;VALUE=DATE:20231129
DTSTAMP:20260424T053643
CREATED:20240218T102811Z
LAST-MODIFIED:20240218T120700Z
UID:143-1697500800-1701215999@performanceartschool.es
SUMMARY:CREACIÓN DE PERFORMANCE ONLINE #05
DESCRIPTION:Este curso online ofrece al alumnado conocer y experimentar el performance art utilizando el cuerpo como herramienta de trabajo indivisible del individuo y como eje central de todas las investigaciones que se desarrollan. \nSe hace especial hincapié en el proceso de creación y se ofrecen los recursos necesarios para que el alumnado desarrolle con autonomía creativa sus propias piezas de performance\, de modo crítico y personal. \nEl curso se compone de 15 horas de clase online por videoconferencia y se complementa con material didáctico y ejercicios que el alumnado podrá realizar por su cuenta. También incluye 2 horas de presentación online vía streaming. \n\n\n\n\n\n\n\n\n\n\n15 HORAS DE CLASE\nNos vemos por videoconferencia 1 vez por semana \n\n\n\n\nCURSO PRÁCTICO\nCreando performance desde el primer día \n\n\n\n\nMATERIAL DIDÁCTICO\nTemario\, contenidos\, ejercicios y videos desde la plataforma online \n\n\n\n\nPRESENTACIÓN ONLINE\nLos trabajos fin de curso se presentan online al público \n\nCALENDARIO\nTodos los MARTES de 18:30h a 21:00h\n(UTC+1\, horario Madrid\, Spain)\nDel 17 de octubre al 28 de noviembre 2023 \nPRESENTACIÓN DE PROYECTOS:\nMartes 28 de noviembre de 18:30h a 21:00h\n(UTC+1\, horario Madrid\, Spain) \n\n\nMetodología\nCurso teórico-práctico \nEste curso online se desarrolla desde un punto de vista práctico que se centra en la experimentación y en la que el alumnado dispone de total libertad creativa para generar sus propios lenguajes y expresar su identidad e intereses a través de los ejercicios y juegos propuestos por el profesor. De este modo el alumnado puede explorar el amplio abanico de posibilidades que ofrece el performance art. \nTodo esto apoyado por una base teórica que introduce al alumnado en los conceptos básicos del performance art\, sus herramientas de construcción y desarrollo. \nObjetivos\nEl curso tiene como objetivo constituir un espacio colectivo de reflexión\, debate\, respeto\, autoconocimiento y libertad. \nEl alumnado finalizará el curso con una base de conocimientos acerca del performance art\, sus variantes y los artistas y colectivos más destacados. \nCada participante adquirirá los recursos necesarios para poder desarrollar sus piezas de performance de manera autónoma. Desarrollará su propio manifiesto de artista que identifique sus inquietudes\, intereses y procesos creativos y aprenderá a justificar su trabajo a través del statement de obra. \nDestinatarios\nUn curso dirigido al público hispanohablante de todo el mundo. A estudiantes y artistas que deseen desarrollar su obra a través del performance art\, a personas con inquietudes artísticas y escénicas\, a quienes deseen profundizar en su desarrollo personal y al público general\, en definitiva a todos aquellos que quieran explorar el cuerpo como elemento de trabajo\, sin límite de edad. \n\n\n\n\nIDIOMA\nEspañol \nCUPO\nMínimo 4\, máximo 8 alumnos/as. \nDURACIÓN\n15 horas de clase por videoconferencia\n+ 2 horas de presentación online\nTOTAL 17 horas
URL:https://performanceartschool.es/e/creacion-de-performance-online-05/
LOCATION:Online
CATEGORIES:Formación online
ATTACH;FMTTYPE=image/jpeg:https://performanceartschool.es/wp-content/uploads/2024/02/CPO1-05.jpg
END:VEVENT
END:VCALENDAR